BEGIN:VCALENDAR
VERSION:2.0
PRODID:-//Consultoría empresarial y ERP | Partner de Microsoft | ProfesionalCloud - ECPv6.15.20//NONSGML v1.0//EN
CALSCALE:GREGORIAN
METHOD:PUBLISH
X-ORIGINAL-URL:https://www.profesionalcloud.com
X-WR-CALDESC:Eventos para Consultoría empresarial y ERP | Partner de Microsoft | ProfesionalCloud
REFRESH-INTERVAL;VALUE=DURATION:PT1H
X-Robots-Tag:noindex
X-PUBLISHED-TTL:PT1H
BEGIN:VTIMEZONE
TZID:UTC
BEGIN:STANDARD
TZOFFSETFROM:+0000
TZOFFSETTO:+0000
TZNAME:UTC
DTSTART:20200101T000000
END:STANDARD
END:VTIMEZONE
BEGIN:VEVENT
DTSTART;TZID=UTC:20210623T123000
DTEND;TZID=UTC:20210623T133000
DTSTAMP:20260419T222157
CREATED:20210614T070758Z
LAST-MODIFIED:20220314T074226Z
UID:2154-1624451400-1624455000@www.profesionalcloud.com
SUMMARY:Microsoft Surface: El espacio de trabajo moderno actual para empresas [Webinar]
DESCRIPTION:¿Tienes el don de la ubicuidad? \nLa revolución digital ha transformado los entornos tradicionales de trabajo. Hoy\, las empresas trabajan de forma colaborativa y la ubicuidad se ha democratizado. \n– Inscríbete Gratis aquí –\nMicrosoft ofrece a todos nuestros clientes un programa destinado a las empresas de todos los tamaños que les permite transformar el modo en que sus empleados trabajan\, incluyendo en suscripciones de pago por uso la gama de dispositivos Surface. \n¿Qué logran nuestros clientes? \n\nBeneficiarse del acceso a lo último en hardware\, así como de ciclos de actualización de dispositivos más rápidos.\nTrabajar de forma remota y colaborativa con la tecnología más avanzada.\nRomper las limitaciones espacio-temporales.\nMaximizar las posibilidades de los productos Microsoft\, aumentando la rentabilidad.\nPagar solo por lo que necesitan.\n\n¿Para quién es este Webinar? \nEmpresas de todos los tamaños que trabajen con soluciones Microsoft365\, Business Central\, Navision\, Power BI\, así como herramientas de gestión sin perder potencia y quieran descubrir o ampliar el conocimiento de Microsoft Surface y sus formas de adquisición. \nContenido de la sesión: \n\nSurface y el espacio de trabajo moderno\nLa familia de dispositivos Surface\nNovedad: Surface Duo para españa\nTech-As-A-Service y Techdata Renew\n\nInscríbete gratis en este evento a cargo de especialistas en producto Microsoft. \n– Inscríbete Gratis aquí –\n\nContacta con nosotros \ninfo@profesionalcloud.com  (+34) 954 027 165
URL:https://www.profesionalcloud.com/evento/microsoft-surface-el-espacio-de-trabajo-moderno-actual-para-empresas-webinar/
ATTACH;FMTTYPE=image/jpeg:https://www.profesionalcloud.com/wp-content/uploads/2021/06/surface.jpg
END:VEVENT
END:VCALENDAR