BEGIN:VCALENDAR
VERSION:2.0
PRODID:-//Consultoría empresarial y ERP | Partner de Microsoft | ProfesionalCloud - ECPv6.15.20//NONSGML v1.0//EN
CALSCALE:GREGORIAN
METHOD:PUBLISH
X-ORIGINAL-URL:https://www.profesionalcloud.com
X-WR-CALDESC:Eventos para Consultoría empresarial y ERP | Partner de Microsoft | ProfesionalCloud
REFRESH-INTERVAL;VALUE=DURATION:PT1H
X-Robots-Tag:noindex
X-PUBLISHED-TTL:PT1H
BEGIN:VTIMEZONE
TZID:UTC
BEGIN:STANDARD
TZOFFSETFROM:+0000
TZOFFSETTO:+0000
TZNAME:UTC
DTSTART:20200101T000000
END:STANDARD
END:VTIMEZONE
BEGIN:VEVENT
DTSTART;TZID=UTC:20210930T110000
DTEND;TZID=UTC:20210930T133000
DTSTAMP:20260420T053647
CREATED:20210921T083720Z
LAST-MODIFIED:20211224T075303Z
UID:2251-1632999600-1633008600@www.profesionalcloud.com
SUMMARY:I Retail Workshop Sevilla: El comercio físico como atractivo de inversión
DESCRIPTION:ProfesionalCloud y Alxia organizan la primera edición del workshop para propiciar y facilitar el encuentro entre empresas del sector Retail. Un evento clave para establecer y desarrollar iniciativas y sinergias entre gerentes\, directivos y directores de ventas y logística de cadenas con estrategias orientadas al establecimiento físico propio y/o el modelo de franquicia. Un espacio de diálogo en el que tendremos la oportunidad de explorar las principales tendencias en digitalización y Marketing Retail. \nEl encuentro\, que cuenta con la participación de especialistas e investigadores en digitalización\, experiencia de usuario y marketing\, tendrá lugar en la Planta 18 de Torre Sevilla el próximo jueves 30 de septiembre. \nEvento híbrido: Asiste presencialmente o en streaming. Por razones de índole sanitaria la asistencia presencial está limitada a las 20 primeras solicitudes. Se ofrece la posibilidad de asistir en streaming. Elige el tipo de asistencia en el formulario de inscripción. \nPrograma: \n\n11:00 Bienvenida y desayuno \n11:15 Presentación del evento \n11:30 TPV4Retail: el software integral para el sector Retail sobre tecnología Microsoft \n11:45 Coloquio. Especialistas e invitados. \n12:15 Establecimientos físicos vs. online. El par comunicación-distribución en el conjunto de las 7 variables del mk-mix retail.\, Dra. Gloria Jiménez-Marín \n13:00 Cierre del acto \n  \n\n\nCita: Jueves 30 de septiembre – Club Cámara\, Torre Sevilla (planta 18)\, 11 horas \nOrganizan: ProfesionalCloud / Alxia \n  \n– INSCRÍBETE GRATIS – \n\n					Contacta con nosotros \n					\n                    info@profesionalcloud.com\n                       (+34) 954 027 165
URL:https://www.profesionalcloud.com/evento/i-retail-workshop-sevilla-el-comercio-fisico-como-atractivo-de-inversion/
ATTACH;FMTTYPE=image/jpeg:https://www.profesionalcloud.com/wp-content/uploads/2021/09/evento-1080.jpg
END:VEVENT
BEGIN:VEVENT
DTSTART;TZID=UTC:20230525T120000
DTEND;TZID=UTC:20230525T130000
DTSTAMP:20260420T053647
CREATED:20230508T121343Z
LAST-MODIFIED:20230508T122602Z
UID:2655-1685016000-1685019600@www.profesionalcloud.com
SUMMARY:Presentación de impuestos en Business Central y Microsoft Dynamics NAV
DESCRIPTION:Inscríbete gratis en la formación on line sobre Presentación de impuestos en Business Central y Microsoft Dynamics NAV. \nImparte: Marta Muñoz
URL:https://www.profesionalcloud.com/evento/presentacion-de-impuestos-en-business-central-y-microsoft-dynamics-nav/
END:VEVENT
END:VCALENDAR