BEGIN:VCALENDAR
VERSION:2.0
PRODID:-//Consultoría empresarial y ERP | Partner de Microsoft | ProfesionalCloud - ECPv6.15.20//NONSGML v1.0//EN
CALSCALE:GREGORIAN
METHOD:PUBLISH
X-ORIGINAL-URL:https://www.profesionalcloud.com
X-WR-CALDESC:Eventos para Consultoría empresarial y ERP | Partner de Microsoft | ProfesionalCloud
REFRESH-INTERVAL;VALUE=DURATION:PT1H
X-Robots-Tag:noindex
X-PUBLISHED-TTL:PT1H
BEGIN:VTIMEZONE
TZID:UTC
BEGIN:STANDARD
TZOFFSETFROM:+0000
TZOFFSETTO:+0000
TZNAME:UTC
DTSTART:20200101T000000
END:STANDARD
END:VTIMEZONE
BEGIN:VEVENT
DTSTART;TZID=UTC:20210422T130000
DTEND;TZID=UTC:20210422T140000
DTSTAMP:20260419T183532
CREATED:20210204T104151Z
LAST-MODIFIED:20220314T074120Z
UID:1826-1619096400-1619100000@www.profesionalcloud.com
SUMMARY:Presentación de impuestos en Dynamics NAV y Business Central [on line]
DESCRIPTION:Inscríbete gratis en la formación on line sobre Presentación de impuestos en Dynamics NAV y Business Central. \nImparte: Manuel Gallardo \n  \n– Inscribirme gratis –  \n  \n\n \n\n\nVer todos los eventos
URL:https://www.profesionalcloud.com/evento/presentacion-de-impuestos-en-dynamics-nav-y-business-central-on-line/
CATEGORIES:NAV/Business Central
END:VEVENT
END:VCALENDAR